Workbook
Name Durée_de_vie: Données!$E$18
Name IRR: Données!$I$36
Name Levensduur: Données!$E$18
Name TRI: Données!$D$36
Name TVT: Données!$D$36

Sheet Données
B2: Calcul de la période de récupération de l'investissement (PRI) et du taux de rentabilité interne (TRI)
B4: version: | C4: vs. 3.0
B5: Petit mode d'emploi
B7: Veuillez complétez les cellules suivantes. Les autres cellules ne doivent pas être modifiées!
B8: - Les chiffres en bleu dans les cellules E13 jusque E19 inclus avec les données de projet. Attention ! Valeurs financières en 1.000 euros!
B9: - indiquer dans la cellule E23 si les économies annuelles sont identiques chaque année pendant la durée de vie. Sinon, complétez au rang 28 l'économie annuelle effective pour l'année concernée, sur la durée de vie de l'investissement.
B12: Données de projet à compléter
D13: année des investissements | E13: 2025
D14: taille entreprise | E14: pas petite société
D15: déduction thématique | E15: =IF(OR(E13="",E14=""),"",IF(AND(E13=2025,E14="pas petite société"),0.3,0.4)) -> 0.3
D16: Investissement | E16: 10 | F16: k€
D17: coûts d'installation | E17: 1 | F17: k€
D18: Durée de vie | E18: 10 | F18: ans
D19: Valeur résiduelle en fin de vie | E19: 1 | F19: k€
D20: Durée d'amortissement | E20: 10 | F20: ans
D21: Impôt des sociétés | E21: 0.25 | G21: =IF(E21<>0.25,"Attention ! Impôt des sociétés modifié !","")
D22: Economie nette année 1 | E22: 3 | F22: k€
D23: économies nettes identiques chaque année? | E23: oui | F23: =IF(E23="non","(*)","")
B24: =IF(E23="oui","","(*) Si les économies nettes varient d'année en année: compléter sous la ligne 28 les économies nettes correctes sur la durée de vie, pour les années 2 à " & Durée_de_vie & " inclus (cases à fond jaune).")
F26: Année
F27: 1 | G27: =F27+1 -> 2 | H27: =G27+1 -> 3 | I27: =H27+1 -> 4 | J27: =I27+1 -> 5 | K27: =J27+1 -> 6 | L27: =K27+1 -> 7 | M27: =L27+1 -> 8 | N27: =M27+1 -> 9 | ... AD27: =AC27+1 -> 25
C28: Economie nette par an sur la durée de vie | F28: =$E$22 -> 3 | G28: =IF($E$23="oui",IF($E$18+1-G27>0,$E$22,0),IF($E$18+1-G27>0,"compléter!",0)) -> 3 | H28: =IF($E$23="oui",IF($E$18+1-H27>0,$E$22,0),IF($E$18+1-H27>0,"compléter!",0)) -> 3 | I28: =IF($E$23="oui",IF($E$18+1-I27>0,$E$22,0),IF($E$18+1-I27>0,"compléter!",0)) -> 3 | J28: =IF($E$23="oui",IF($E$18+1-J27>0,$E$22,0),IF($E$18+1-J27>0,"compléter!",0)) -> 3 | K28: =IF($E$23="oui",IF($E$18+1-K27>0,$E$22,0),IF($E$18+1-K27>0,"compléter!",0)) -> 3 | L28: =IF($E$23="oui",IF($E$18+1-L27>0,$E$22,0),IF($E$18+1-L27>0,"compléter!",0)) -> 3 | M28: =IF($E$23="oui",IF($E$18+1-M27>0,$E$22,0),IF($E$18+1-M27>0,"compléter!",0)) -> 3 | N28: =IF($E$23="oui",IF($E$18+1-N27>0,$E$22,0),IF($E$18+1-N27>0,"compléter!",0)) -> 3 | ... AD28: =IF($E$23="oui",IF($E$18+1-AD27>0,$E$22,0),IF($E$18+1-AD27>0,"compléter!",0)) -> 0
B33: Résultat calcul de la PRI | G33: Résultat calcul du TRI
C36: PRI après impôts: | D36: =IF($E$22=0,"",IF($G$28="compléter!","",IF($E$22<0,"Pas d'économie!",'Calcul PRI'!L9))) -> plus de 3 ans | H36: TRI après impôts: | I36: =IF($E$22=0,"",IF($G$28="compléter!","",IF($E$22<0,"Pas d'économie!",'Calcul TRI'!M9))) -> 0.21833448
B40: Conclusion: | C40: =IF(OR(E16=0,E18=0,E20=0),"Compléter toutes les données nécessaires!",IF($E$22<=0,"Compléter correctement les économies ! Les économies doivent être supérieures à 0 !",IF(IRR="","",IF($D$36="moins de 3 ans","Pas de déduction majorée thématique applicable",IF(IRR>0.13,"Déduction majorée thématique applicable seulement aux petites entreprises","Déduction majorée thématique applicable à toutes les entreprises"))))) -> Déduction majorée thématique applicable seulement aux petites entreprises
B41: =IF(C40="Complétez toutes les données nécessaires!","",IF(IRR="","","Motif:")) -> Motif: | C41: =IF(C40="Complétez toutes les données!","",IF(IRR="","",IF($I$36="","",IF(TRI="moins de 3 ans","La PRI doit être de 3 ans minimum",IF(IRR>0.13,"Le TRI ne peut pas dépasser 13 % pour les grandes et moyennes entreprises",""))))) -> Le TRI ne peut pas dépasser 13 % pour les grandes et moyennes entreprises

Sheet Calcul PRI
A1: Calcul période de récupération de l'investissement (PRI)
A3: données de projet | H3: Résultat calcul PRI
C5: =Données!D16 -> Investissement | D5: =Données!E16 -> 10 | E5: =Données!F16 -> k€
C6: =Données!D17 -> coûts d'installation | D6: =Données!E17 -> 1 | E6: =Données!F17 -> k€ | K6: PRI avant impôts: | L6: =E28 -> plus de 3 ans
C7: =Données!D18 -> Durée de vie | D7: =Données!E18 -> 10 | E7: =Données!F18 -> ans
C8: =Données!D22 -> Economie nette année 1 | D8: =Données!E22 -> 3 | E8: =Données!F22 -> k€
C9: =Données!D19 -> Valeur résiduelle en fin de vie | D9: =Données!E19 -> 1 | E9: =Données!F19 -> k€ | K9: PRI après impôts: | L9: =E46 -> plus de 3 ans
C10: =Données!D20 -> Durée d'amortissement | D10: =Données!E20 -> 10 | E10: =Données!F20 -> ans
C11: Déduction thématique
C12: =Données!D21 -> Impôt des sociétés | D12: =Données!E21 -> 0.25
A15: Ci-dessous est présentée la manière dont est calculé la PRI respectivement avant et après impôts.
A17: Calcul PRI avant impôt
E19: Année
E20: 0 | F20: 1 | G20: 2 | H20: 3 | I20: 4
B21: Investissement | E21: =-(D5) -> -10
B22: Valeur résiduelle en fin de vie | F22: =IF($D$7=F20,$D$9,0) -> 0 | G22: =IF($D$7=G20,$D$9,0) -> 0 | H22: =IF($D$7=H20,$D$9,0) -> 0 | I22: =IF($D$7=I20,$D$9,0) -> 0
B23: Coûts d'installation | E23: =-D6 -> -1
B24: Economie nette par an sur la durée de vie | F24: ='Calcul TRI'!F24 -> 3 | G24: ='Calcul TRI'!G24 -> 3 | H24: ='Calcul TRI'!H24 -> 3 | I24: ='Calcul TRI'!I24 -> 3
B25: Flux de trésorerie total | E25: =SUM(E21:E24) -> -11 | F25: =SUM(F21:F24) -> 3 | G25: =SUM(G21:G24) -> 3 | H25: =SUM(H21:H24) -> 3 | I25: =SUM(I21:I24) -> 3
B26: Flux de trésorerie cumulé | E26: =E25 -> -11 | F26: =SUM($E25:F25) -> -8 | G26: =SUM($E25:G25) -> -5 | H26: =SUM($E25:H25) -> -2 | I26: =SUM($E25:I25) -> 1
B28: Calcul PRI avant impôts: | E28: =IF(D7=0,"",IF(H26<0,"plus de 3 ans",IF(H26>0,"moins de 3 ans","3 ans exactement"))) -> plus de 3 ans
A31: Calcul PRI après impôt
E33: Année
E34: 0 | F34: 1 | G34: 2 | H34: 3 | I34: 4
B35: Investissement | E35: =-(D5) -> -10
B36: Valeur résiduelle en fin de vie | F36: =IF($D$7=F34,$D$9,0) -> 0 | G36: =IF($D$7=G34,$D$9,0) -> 0 | H36: =IF($D$7=H34,$D$9,0) -> 0 | I36: =IF($D$7=I34,$D$9,0) -> 0
B37: Coûts d'installation | E37: =-D6 -> -1
B38: Economie nette par an sur la durée de vie | F38: =F24 -> 3 | G38: =G24 -> 3 | H38: =H24 -> 3 | I38: =I24 -> 3
B39: Impôt sur les revenus | E39: =-E37*$D$12 -> 0.25 | F39: =-F38*$D$12 -> -0.75 | G39: =-G38*$D$12 -> -0.75 | H39: =-H38*$D$12 -> -0.75 | I39: =-I38*$D$12 -> -0.75
D40: Déduction thématique | E40: =IF($D$11="",0,$D$11*$D$5*$D$12) -> 0
B41: Amortissement par an | F41: =IF($D$10+1-F$34>0,($D$5/$D$10),0) -> 1 | G41: =IF($D$10+1-G$34>0,($D$5/$D$10),0) -> 1 | H41: =IF($D$10+1-H$34>0,($D$5/$D$10),0) -> 1 | I41: =IF($D$10+1-I$34>0,($D$5/$D$10),0) -> 1
B42: Impôt diminué de l'amortissement | F42: =IF(F$41>0,F41*$D$12,0) -> 0.25 | G42: =IF(G$41>0,G41*$D$12,0) -> 0.25 | H42: =IF(H$41>0,H41*$D$12,0) -> 0.25 | I42: =IF(I$41>0,I41*$D$12,0) -> 0.25
B43: Flux de trésorerie total | E43: =SUM(E35:E42) -> -10.75 | F43: =SUM(F35:F42)-F41 -> 2.5 | G43: =SUM(G35:G42)-G41 -> 2.5 | H43: =SUM(H35:H42)-H41 -> 2.5 | I43: =SUM(I35:I42)-I41 -> 2.5
B44: Flux de trésorerie cumulé | E44: =E43 -> -10.75 | F44: =SUM($E43:F43) -> -8.25 | G44: =SUM($E43:G43) -> -5.75 | H44: =SUM($E43:H43) -> -3.25 | I44: =SUM($E43:I43) -> -0.75
B46: Calcul PRI après impôts: | E46: =IF(D7=0,"",IF(H44<0,"plus de 3 ans",IF(H44>0,"moins de 3 ans","3 ans exactement"))) -> plus de 3 ans
C47: 0

Sheet Calcul TRI
A1: Calcul TRI des investissements
A3: données de projet | H3: Résultat calcul TRI
C5: =Données!D16 -> Investissement | D5: =Données!E16 -> 10 | E5: =Données!F16 -> k€
C6: =Données!D17 -> coûts d'installation | D6: =Données!E17 -> 1 | E6: =Données!F17 -> k€ | L6: TRI avant impôts: | M6: =C28 -> 0.24465366
C7: =Données!D18 -> Durée de vie | D7: =Données!E18 -> 10 | E7: =Données!F18 -> ans
C8: =Données!D22 -> Economie nette année 1 | D8: =Données!E22 -> 3 | E8: =Données!F22 -> k€
C9: =Données!D19 -> Valeur résiduelle en fin de vie | D9: =Données!E19 -> 1 | E9: =Données!F19 -> k€ | L9: TRI après impôts: | M9: =C64 -> 0.21833448
C10: =Données!D20 -> Durée d'amortissement | D10: =Données!E20 -> 10 | E10: =Données!F20 -> ans
C11: Déduction thématique | D11: =Données!E15 -> 0.3
C12: =Données!D21 -> Impôt des sociétés | D12: =Données!E21 -> 0.25
A15: Ci-dessous est présentée la manière de calculer le TRI respectivement avant et après impôts.
A17: Calcul TRI avant impôt
E19: Jaar
E20: 0 | F20: =E20+1 -> 1 | G20: =F20+1 -> 2 | H20: =G20+1 -> 3 | I20: =H20+1 -> 4 | J20: =I20+1 -> 5 | K20: =J20+1 -> 6 | L20: =K20+1 -> 7 | M20: =L20+1 -> 8 | ... AD20: =AC20+1 -> 25
B21: Investissement | E21: =-(D5) -> -10
B22: Valeur résiduelle en fin de vie | F22: =IF($D$7=F20,$D$9,0) -> 0 | G22: =IF($D$7=G20,$D$9,0) -> 0 | H22: =IF($D$7=H20,$D$9,0) -> 0 | I22: =IF($D$7=I20,$D$9,0) -> 0 | J22: =IF($D$7=J20,$D$9,0) -> 0 | K22: =IF($D$7=K20,$D$9,0) -> 0 | L22: =IF($D$7=L20,$D$9,0) -> 0 | M22: =IF($D$7=M20,$D$9,0) -> 0 | ... AD22: =IF($D$7=AD20,$D$9,0) -> 0
B23: Coûts d'installation | E23: =-D6 -> -1
B24: Economie nette par an sur la durée de vie | F24: =Données!F28 -> 3 | G24: =Données!G28 -> 3 | H24: =Données!H28 -> 3 | I24: =Données!I28 -> 3 | J24: =Données!J28 -> 3 | K24: =Données!K28 -> 3 | L24: =Données!L28 -> 3 | M24: =Données!M28 -> 3 | ... AD24: =Données!AD28 -> 0
B25: Flux de trésorerie total | E25: =SUM(E21:E24) -> -11 | F25: =SUM(F21:F24) -> 3 | G25: =SUM(G21:G24) -> 3 | H25: =SUM(H21:H24) -> 3 | I25: =SUM(I21:I24) -> 3 | J25: =SUM(J21:J24) -> 3 | K25: =SUM(K21:K24) -> 3 | L25: =SUM(L21:L24) -> 3 | ... AD25: =SUM(AD21:AD24) -> 0
A27: Le TRI est calculé au moyen d'une formule (itération) et donne
A28: le résultat suivant: | B28: TRI : | C28: =IF(D7=0,"",IRR(E25:AD25)) -> 0.24465366
C29: 0
A30: Il peut être rendu visible en calculant la VAN pour différents taux d'intérêt et en regardant pour quel taux d'intérêt la VAN = 0
C32: taux d'intérêt | D32: VAN dans l'année d'investissement | E32: Année
E33: 0 | F33: =E33+1 -> 1 | G33: =F33+1 -> 2 | H33: =G33+1 -> 3 | I33: =H33+1 -> 4 | J33: =I33+1 -> 5 | K33: =J33+1 -> 6 | L33: =K33+1 -> 7 | M33: =L33+1 -> 8 | ... AD33: =AC33+1 -> 25
C34: 0 | D34: =SUM(E34:Y34) -> 20 | E34: =SUM(E$21:E$24) -> -11 | F34: =SUM(F$21:F$24)/POWER(1+$C34/100,F$20) -> 3 | G34: =SUM(G$21:G$24)/POWER(1+$C34/100,G$20) -> 3 | H34: =SUM(H$21:H$24)/POWER(1+$C34/100,H$20) -> 3 | I34: =SUM(I$21:I$24)/POWER(1+$C34/100,I$20) -> 3 | J34: =SUM(J$21:J$24)/POWER(1+$C34/100,J$20) -> 3 | K34: =SUM(K$21:K$24)/POWER(1+$C34/100,K$20) -> 3 | L34: =SUM(L$21:L$24)/POWER(1+$C34/100,L$20) -> 3 | M34: =SUM(M$21:M$24)/POWER(1+$C34/100,M$20) -> 3 | ... AD34: =SUM(AD$21:AD$24)/POWER(1+$C34/100,AD$20) -> 0
C35: =C34+5 -> 5 | D35: =SUM(E35:Y35) -> 12.779118 | E35: =SUM(E$21:E$24) -> -11 | F35: =SUM(F$21:F$24)/POWER(1+$C35/100,F$20) -> 2.8571429 | G35: =SUM(G$21:G$24)/POWER(1+$C35/100,G$20) -> 2.7210884 | H35: =SUM(H$21:H$24)/POWER(1+$C35/100,H$20) -> 2.5915128 | I35: =SUM(I$21:I$24)/POWER(1+$C35/100,I$20) -> 2.4681074 | J35: =SUM(J$21:J$24)/POWER(1+$C35/100,J$20) -> 2.3505785 | K35: =SUM(K$21:K$24)/POWER(1+$C35/100,K$20) -> 2.2386462 | L35: =SUM(L$21:L$24)/POWER(1+$C35/100,L$20) -> 2.132044 | M35: =SUM(M$21:M$24)/POWER(1+$C35/100,M$20) -> 2.0305181 | ... AD35: =SUM(AD$21:AD$24)/POWER(1+$C35/100,AD$20) -> 0
C36: =C35+5 -> 10 | D36: =SUM(E36:Y36) -> 7.8192446 | E36: =SUM(E$21:E$24) -> -11 | F36: =SUM(F$21:F$24)/POWER(1+$C36/100,F$20) -> 2.7272727 | G36: =SUM(G$21:G$24)/POWER(1+$C36/100,G$20) -> 2.4793388 | H36: =SUM(H$21:H$24)/POWER(1+$C36/100,H$20) -> 2.2539444 | I36: =SUM(I$21:I$24)/POWER(1+$C36/100,I$20) -> 2.0490404 | J36: =SUM(J$21:J$24)/POWER(1+$C36/100,J$20) -> 1.862764 | K36: =SUM(K$21:K$24)/POWER(1+$C36/100,K$20) -> 1.6934218 | L36: =SUM(L$21:L$24)/POWER(1+$C36/100,L$20) -> 1.5394744 | M36: =SUM(M$21:M$24)/POWER(1+$C36/100,M$20) -> 1.3995221 | ... AD36: =SUM(AD$21:AD$24)/POWER(1+$C36/100,AD$20) -> 0
C37: =C36+5 -> 15 | D37: =SUM(E37:Y37) -> 4.3034906 | E37: =SUM(E$21:E$24) -> -11 | F37: =SUM(F$21:F$24)/POWER(1+$C37/100,F$20) -> 2.6086957 | G37: =SUM(G$21:G$24)/POWER(1+$C37/100,G$20) -> 2.268431 | H37: =SUM(H$21:H$24)/POWER(1+$C37/100,H$20) -> 1.9725487 | I37: =SUM(I$21:I$24)/POWER(1+$C37/100,I$20) -> 1.7152597 | J37: =SUM(J$21:J$24)/POWER(1+$C37/100,J$20) -> 1.4915302 | K37: =SUM(K$21:K$24)/POWER(1+$C37/100,K$20) -> 1.2969828 | L37: =SUM(L$21:L$24)/POWER(1+$C37/100,L$20) -> 1.1278111 | M37: =SUM(M$21:M$24)/POWER(1+$C37/100,M$20) -> 0.98070532 | ... AD37: =SUM(AD$21:AD$24)/POWER(1+$C37/100,AD$20) -> 0
C38: =C37+5 -> 20 | D38: =SUM(E38:Y38) -> 1.7389218 | E38: =SUM(E$21:E$24) -> -11 | F38: =SUM(F$21:F$24)/POWER(1+$C38/100,F$20) -> 2.5 | G38: =SUM(G$21:G$24)/POWER(1+$C38/100,G$20) -> 2.0833333 | H38: =SUM(H$21:H$24)/POWER(1+$C38/100,H$20) -> 1.7361111 | I38: =SUM(I$21:I$24)/POWER(1+$C38/100,I$20) -> 1.4467593 | J38: =SUM(J$21:J$24)/POWER(1+$C38/100,J$20) -> 1.2056327 | K38: =SUM(K$21:K$24)/POWER(1+$C38/100,K$20) -> 1.0046939 | L38: =SUM(L$21:L$24)/POWER(1+$C38/100,L$20) -> 0.83724494 | M38: =SUM(M$21:M$24)/POWER(1+$C38/100,M$20) -> 0.69770412 | ... AD38: =SUM(AD$21:AD$24)/POWER(1+$C38/100,AD$20) -> 0
C39: =C38+5 -> 25 | D39: =SUM(E39:Y39) -> -0.18111601 | E39: =SUM(E$21:E$24) -> -11 | F39: =SUM(F$21:F$24)/POWER(1+$C39/100,F$20) -> 2.4 | G39: =SUM(G$21:G$24)/POWER(1+$C39/100,G$20) -> 1.92 | H39: =SUM(H$21:H$24)/POWER(1+$C39/100,H$20) -> 1.536 | I39: =SUM(I$21:I$24)/POWER(1+$C39/100,I$20) -> 1.2288 | J39: =SUM(J$21:J$24)/POWER(1+$C39/100,J$20) -> 0.98304 | K39: =SUM(K$21:K$24)/POWER(1+$C39/100,K$20) -> 0.786432 | L39: =SUM(L$21:L$24)/POWER(1+$C39/100,L$20) -> 0.6291456 | M39: =SUM(M$21:M$24)/POWER(1+$C39/100,M$20) -> 0.50331648 | ... AD39: =SUM(AD$21:AD$24)/POWER(1+$C39/100,AD$20) -> 0
C40: =C39+5 -> 30 | D40: =SUM(E40:Y40) -> -1.6528434 | E40: =SUM(E$21:E$24) -> -11 | F40: =SUM(F$21:F$24)/POWER(1+$C40/100,F$20) -> 2.3076923 | G40: =SUM(G$21:G$24)/POWER(1+$C40/100,G$20) -> 1.7751479 | H40: =SUM(H$21:H$24)/POWER(1+$C40/100,H$20) -> 1.3654984 | I40: =SUM(I$21:I$24)/POWER(1+$C40/100,I$20) -> 1.0503834 | J40: =SUM(J$21:J$24)/POWER(1+$C40/100,J$20) -> 0.80798722 | K40: =SUM(K$21:K$24)/POWER(1+$C40/100,K$20) -> 0.62152863 | L40: =SUM(L$21:L$24)/POWER(1+$C40/100,L$20) -> 0.47809895 | M40: =SUM(M$21:M$24)/POWER(1+$C40/100,M$20) -> 0.36776842 | ... AD40: =SUM(AD$21:AD$24)/POWER(1+$C40/100,AD$20) -> 0
C41: =C40+5 -> 35 | D41: =SUM(E41:Y41) -> -2.8051366 | E41: =SUM(E$21:E$24) -> -11 | F41: =SUM(F$21:F$24)/POWER(1+$C41/100,F$20) -> 2.2222222 | G41: =SUM(G$21:G$24)/POWER(1+$C41/100,G$20) -> 1.6460905 | H41: =SUM(H$21:H$24)/POWER(1+$C41/100,H$20) -> 1.2193263 | I41: =SUM(I$21:I$24)/POWER(1+$C41/100,I$20) -> 0.90320468 | J41: =SUM(J$21:J$24)/POWER(1+$C41/100,J$20) -> 0.66904051 | K41: =SUM(K$21:K$24)/POWER(1+$C41/100,K$20) -> 0.49558556 | L41: =SUM(L$21:L$24)/POWER(1+$C41/100,L$20) -> 0.36710041 | M41: =SUM(M$21:M$24)/POWER(1+$C41/100,M$20) -> 0.27192623 | ... AD41: =SUM(AD$21:AD$24)/POWER(1+$C41/100,AD$20) -> 0
C42: =C41+5 -> 40 | D42: =SUM(E42:Y42) -> -3.7247155 | E42: =SUM(E$21:E$24) -> -11 | F42: =SUM(F$21:F$24)/POWER(1+$C42/100,F$20) -> 2.1428571 | G42: =SUM(G$21:G$24)/POWER(1+$C42/100,G$20) -> 1.5306122 | H42: =SUM(H$21:H$24)/POWER(1+$C42/100,H$20) -> 1.0932945 | I42: =SUM(I$21:I$24)/POWER(1+$C42/100,I$20) -> 0.78092461 | J42: =SUM(J$21:J$24)/POWER(1+$C42/100,J$20) -> 0.5578033 | K42: =SUM(K$21:K$24)/POWER(1+$C42/100,K$20) -> 0.39843093 | L42: =SUM(L$21:L$24)/POWER(1+$C42/100,L$20) -> 0.28459352 | M42: =SUM(M$21:M$24)/POWER(1+$C42/100,M$20) -> 0.20328108 | ... AD42: =SUM(AD$21:AD$24)/POWER(1+$C42/100,AD$20) -> 0
C43: =C42+5 -> 45 | D43: =SUM(E43:Y43) -> -4.4712598 | E43: =SUM(E$21:E$24) -> -11 | F43: =SUM(F$21:F$24)/POWER(1+$C43/100,F$20) -> 2.0689655 | G43: =SUM(G$21:G$24)/POWER(1+$C43/100,G$20) -> 1.4268728 | H43: =SUM(H$21:H$24)/POWER(1+$C43/100,H$20) -> 0.98405019 | I43: =SUM(I$21:I$24)/POWER(1+$C43/100,I$20) -> 0.6786553 | J43: =SUM(J$21:J$24)/POWER(1+$C43/100,J$20) -> 0.46803814 | K43: =SUM(K$21:K$24)/POWER(1+$C43/100,K$20) -> 0.32278492 | L43: =SUM(L$21:L$24)/POWER(1+$C43/100,L$20) -> 0.22261029 | M43: =SUM(M$21:M$24)/POWER(1+$C43/100,M$20) -> 0.15352434 | ... AD43: =SUM(AD$21:AD$24)/POWER(1+$C43/100,AD$20) -> 0
C44: =C43+5 -> 50 | D44: =SUM(E44:Y44) -> -5.0867076 | E44: =SUM(E$21:E$24) -> -11 | F44: =SUM(F$21:F$24)/POWER(1+$C44/100,F$20) -> 2 | G44: =SUM(G$21:G$24)/POWER(1+$C44/100,G$20) -> 1.3333333 | H44: =SUM(H$21:H$24)/POWER(1+$C44/100,H$20) -> 0.88888889 | I44: =SUM(I$21:I$24)/POWER(1+$C44/100,I$20) -> 0.59259259 | J44: =SUM(J$21:J$24)/POWER(1+$C44/100,J$20) -> 0.39506173 | K44: =SUM(K$21:K$24)/POWER(1+$C44/100,K$20) -> 0.26337449 | L44: =SUM(L$21:L$24)/POWER(1+$C44/100,L$20) -> 0.17558299 | M44: =SUM(M$21:M$24)/POWER(1+$C44/100,M$20) -> 0.11705533 | ... AD44: =SUM(AD$21:AD$24)/POWER(1+$C44/100,AD$20) -> 0
C46: Le taux d'intérêt pour lequel la valeur actuelle nette = 0, est le TRI de l'investissement avant impôts
A49: Calcul TRI après impôt
E51: Jaar
E52: 0 | F52: =E52+1 -> 1 | G52: =F52+1 -> 2 | H52: =G52+1 -> 3 | I52: =H52+1 -> 4 | J52: =I52+1 -> 5 | K52: =J52+1 -> 6 | L52: =K52+1 -> 7 | M52: =L52+1 -> 8 | ... AD52: =AC52+1 -> 25
...

Sheet Plan d'investissement
A1: A remplir si l'investissement s'étale sur plusieurs exercices comptables et fait l'objet d'une demande de certificat d'investissement
B3: Année d'investissement | C3: Estimation des coûts d'investissement en € | D3: Remarques
